BEGIN:VCALENDAR
VERSION:2.0
PRODID:-//bv-holzlar.de//DE
BEGIN:VEVENT
UID:1883@bv-holzlar.de
DTSTAMP:20260422T102326Z
DTSTART;TZID=Europe/Berlin:20260406T110000
DTEND;TZID=Europe/Berlin:20260406T120000
SUMMARY:BV Holzlar: Ostereiersuchwanderung
DESCRIPTION:https://bv-holzlar.de/veranstaltung/bv-holzlar-ostereiersuchwanderung/
LOCATION:Ennert
END:VEVENT
END:VCALENDAR
