BEGIN:VCALENDAR
VERSION:2.0
PRODID:-//bv-holzlar.de//DE
BEGIN:VEVENT
UID:2210@bv-holzlar.de
DTSTAMP:20260422T100612Z
DTSTART;TZID=Europe/Berlin:20260320T163000
DTEND;TZID=Europe/Berlin:20260320T173000
SUMMARY:Verein Holzlarer Mühle e.V.: Frühjahrsbasteln an der Mühle
DESCRIPTION:https://bv-holzlar.de/veranstaltung/verein-holzlarer-muehle-e-v-fruehjahrsbasteln-an-der-muehle/
LOCATION:Holzlarer Mühle
END:VEVENT
END:VCALENDAR
